BEGIN:VCALENDAR
VERSION:2.0
PRODID:-//Herrstein - ECPv4.9.0//NONSGML v1.0//EN
CALSCALE:GREGORIAN
METHOD:PUBLISH
X-WR-CALNAME:Herrstein
X-ORIGINAL-URL:https://herrstein.de
X-WR-CALDESC:Veranstaltungen im Herrstein
BEGIN:VEVENT
DTSTART;VALUE=DATE:20250906
DTEND;VALUE=DATE:20250908
DTSTAMP:20260420T080013
CREATED:20240111T160856Z
LAST-MODIFIED:20250406T110539Z
UID:1350-1757116800-1757289599@herrstein.de
SUMMARY:Schinderhannes-Räuberfest
DESCRIPTION:
URL:https://herrstein.de/event/schinderhannes-raeuberfest-3
LOCATION:Herrstein Ortskern/ Schmiedescheune\, Herrstein\, 55756\, Deutschland
END:VEVENT
END:VCALENDAR