BEGIN:VCALENDAR
VERSION:2.0
PRODID:-//Herrstein - ECPv4.9.0//NONSGML v1.0//EN
CALSCALE:GREGORIAN
METHOD:PUBLISH
X-WR-CALNAME:Herrstein
X-ORIGINAL-URL:https://herrstein.de
X-WR-CALDESC:Veranstaltungen im Herrstein
BEGIN:VEVENT
DTSTART;TZID=UTC+2:20180817T190000
DTEND;TZID=UTC+2:20180817T190000
DTSTAMP:20260425T033711
CREATED:20180807T143424Z
LAST-MODIFIED:20180807T143424Z
UID:99-1534532400-1534532400@herrstein.de
SUMMARY:Schinderhannes-Führung mit Weinprobe
DESCRIPTION:Schinderhannes-Führung mit Weinprobe\n19.00 Uhr \n
URL:https://herrstein.de/event/schinderhannes-fuehrung-mit-weinprobe
END:VEVENT
END:VCALENDAR