BEGIN:VCALENDAR
VERSION:2.0
PRODID:-//Herrstein - ECPv4.9.0//NONSGML v1.0//EN
CALSCALE:GREGORIAN
METHOD:PUBLISH
X-WR-CALNAME:Herrstein
X-ORIGINAL-URL:https://herrstein.de
X-WR-CALDESC:Veranstaltungen im Herrstein
BEGIN:VEVENT
DTSTART;TZID=Europe/Berlin:20250824T143000
DTEND;TZID=Europe/Berlin:20250824T170000
DTSTAMP:20260420T000341
CREATED:20250712T145037Z
LAST-MODIFIED:20250712T145037Z
UID:1476-1756045800-1756054800@herrstein.de
SUMMARY:Öffentliche Chorprobe
DESCRIPTION:Öffentliche Chorprobe\nmit dem MGV/Gem.Chor Herrstein statt.\nÜber viele Zuhörer (gerne auch Mitsänger) würden\nwir uns freuen\nSitzplätze sind vorhanden\nIm Anschluss werden Getränke sowie Kaffee und\nselbstgebackener Kuchen angeboten. \n
URL:https://herrstein.de/event/oeffentliche-chorprobe
LOCATION:Gemeindescheune\, SChlossweg\, Herrstein\, 55756
END:VEVENT
END:VCALENDAR