BEGIN:VCALENDAR
VERSION:2.0
PRODID:-//Herrstein - ECPv4.9.0//NONSGML v1.0//EN
CALSCALE:GREGORIAN
METHOD:PUBLISH
X-WR-CALNAME:Herrstein
X-ORIGINAL-URL:https://herrstein.de
X-WR-CALDESC:Veranstaltungen im Herrstein
BEGIN:VEVENT
DTSTART;TZID=Europe/Berlin:20250823T190000
DTEND;TZID=Europe/Berlin:20250823T210000
DTSTAMP:20260420T031210
CREATED:20250406T105833Z
LAST-MODIFIED:20250406T105833Z
UID:1459-1755975600-1755982800@herrstein.de
SUMMARY:Edelsteinserenade im HOK
DESCRIPTION:Die bekannte Band „Dhalia‘s Lane“ ist ebenfalls mit einem Freiluftkonzert am 23.08. um 19 Uhr im historischen Ortskern in Herrstein zu erleben. Die Band hat es geschafft\, die Seele ihrer Musik auf Bühnen großer Festivals\, in intime Clubs und in die Ohren ihrer Fans zu tragen (www.dhaliaslane.de). \n
URL:https://herrstein.de/event/edelsteinserenade-im-hok
LOCATION:Herrstein Ortskern/ Schmiedescheune\, Herrstein\, 55756\, Deutschland
END:VEVENT
END:VCALENDAR